BEGIN:VCALENDAR
VERSION:2.0
PRODID:-//Ottawa Horticultural Society - ECPv6.15.19//NONSGML v1.0//EN
CALSCALE:GREGORIAN
METHOD:PUBLISH
X-WR-CALNAME:Ottawa Horticultural Society
X-ORIGINAL-URL:https://ottawahort.org
X-WR-CALDESC:Events for Ottawa Horticultural Society
REFRESH-INTERVAL;VALUE=DURATION:PT1H
X-Robots-Tag:noindex
X-PUBLISHED-TTL:PT1H
BEGIN:VTIMEZONE
TZID:America/Toronto
BEGIN:DAYLIGHT
TZOFFSETFROM:-0500
TZOFFSETTO:-0400
TZNAME:EDT
DTSTART:20240310T070000
END:DAYLIGHT
BEGIN:STANDARD
TZOFFSETFROM:-0400
TZOFFSETTO:-0500
TZNAME:EST
DTSTART:20241103T060000
END:STANDARD
BEGIN:DAYLIGHT
TZOFFSETFROM:-0500
TZOFFSETTO:-0400
TZNAME:EDT
DTSTART:20250309T070000
END:DAYLIGHT
BEGIN:STANDARD
TZOFFSETFROM:-0400
TZOFFSETTO:-0500
TZNAME:EST
DTSTART:20251102T060000
END:STANDARD
BEGIN:DAYLIGHT
TZOFFSETFROM:-0500
TZOFFSETTO:-0400
TZNAME:EDT
DTSTART:20260308T070000
END:DAYLIGHT
BEGIN:STANDARD
TZOFFSETFROM:-0400
TZOFFSETTO:-0500
TZNAME:EST
DTSTART:20261101T060000
END:STANDARD
END:VTIMEZONE
BEGIN:VEVENT
DTSTART;TZID=America/Toronto:20251125T190000
DTEND;TZID=America/Toronto:20251125T210000
DTSTAMP:20260420T182149
CREATED:20250906T150511Z
LAST-MODIFIED:20251022T183701Z
UID:10000036-1764097200-1764104400@ottawahort.org
SUMMARY:The Native Bees In Our Backyards
DESCRIPTION: * Effective September 23rd\, all in-person presentations will be held at St. Mark's church\, 1606 Fisher Avenue\, Ottawa. Free parking available behind the church.* OHS online presentations will be streamed live via Zoom (link provided to members in the Grapevine newsletter)\, and later posted on the OHS YouTube channel for those unable to attend.* Presentations begin at 7:30 PM\, following the OHS announcements and refreshment period from 7:00-7:30 PM. \n~~~~~~~~~~~~~~~~~~~~~~~~~~~~~~~~~~~~~~~~~~~~~~~~~~~~~~~~~~~~~~~~~~~~~~~~~~ \nIn-person meeting presentation: Dr. Jessica Forrest\, Associate Professor\, Faculty of Science (Biology Department)\, University of Ottawa \nEastern Canada is home to approximately 400 species of native bees. Many of these species manage to coexist with us in our cities and farmlands\, visiting flowers and pollinating both crops and wild plants. Yet these native bees often labour in obscurity\, while non-native honey bees receive most of the attention and credit. In this talk\, Dr. Forrest will discuss the life histories and floral requirements of wild bees\, highlighting the diversity of bees that occur\, often unnoticed\, in urban settings. She will end her talk with some tips on how gardeners and homeowners can become better acquainted with and support the native bees and other pollinators in our backyards. \n  \nBioDr. Jessica Forrest is an Associate Professor in the Biology Department at the University of Ottawa\, where her lab (https://forrestlab.wordpress.com/) conducts research on the ecology and evolution of wild pollinators\, especially native bees\, and their interactions with plants. Jessica teaches upper-level ecology courses\, in French and English\, and serves as Co-Director of the Biology Department’s graduate program. She is also a subject-matter editor at the journal Ecology. She and her students (and her dog\, Oscar) do field work in the Colorado Rocky Mountains and in the many green spaces—agricultural\, urban\, and natural—around Ottawa. \n 
URL:https://ottawahort.org/event/presentation-the-native-bees-in-our-backyards/
LOCATION:St Mark’s Anglican Church\, 1606 Fisher Ave\, Ottawa\, Ontario\, K2C1X6\, Canada
CATEGORIES:Speaker Series 2025
ATTACH;FMTTYPE=image/jpeg:https://ottawahort.org/wp-content/uploads/2025/09/Speaker-Series-Logo-.jpg
ORGANIZER;CN="Ottawa Horticultural Society":MAILTO:info@ottawahort.org
END:VEVENT
END:VCALENDAR