BEGIN:VCALENDAR
VERSION:2.0
PRODID:-//Ottawa Horticultural Society - ECPv6.15.19//NONSGML v1.0//EN
CALSCALE:GREGORIAN
METHOD:PUBLISH
X-WR-CALNAME:Ottawa Horticultural Society
X-ORIGINAL-URL:https://ottawahort.org
X-WR-CALDESC:Events for Ottawa Horticultural Society
REFRESH-INTERVAL;VALUE=DURATION:PT1H
X-Robots-Tag:noindex
X-PUBLISHED-TTL:PT1H
BEGIN:VTIMEZONE
TZID:America/Toronto
BEGIN:DAYLIGHT
TZOFFSETFROM:-0500
TZOFFSETTO:-0400
TZNAME:EDT
DTSTART:20240310T070000
END:DAYLIGHT
BEGIN:STANDARD
TZOFFSETFROM:-0400
TZOFFSETTO:-0500
TZNAME:EST
DTSTART:20241103T060000
END:STANDARD
BEGIN:DAYLIGHT
TZOFFSETFROM:-0500
TZOFFSETTO:-0400
TZNAME:EDT
DTSTART:20250309T070000
END:DAYLIGHT
BEGIN:STANDARD
TZOFFSETFROM:-0400
TZOFFSETTO:-0500
TZNAME:EST
DTSTART:20251102T060000
END:STANDARD
BEGIN:DAYLIGHT
TZOFFSETFROM:-0500
TZOFFSETTO:-0400
TZNAME:EDT
DTSTART:20260308T070000
END:DAYLIGHT
BEGIN:STANDARD
TZOFFSETFROM:-0400
TZOFFSETTO:-0500
TZNAME:EST
DTSTART:20261101T060000
END:STANDARD
END:VTIMEZONE
BEGIN:VEVENT
DTSTART;TZID=America/Toronto:20250923T190000
DTEND;TZID=America/Toronto:20250923T210000
DTSTAMP:20260420T224346
CREATED:20250826T211652Z
LAST-MODIFIED:20251022T183708Z
UID:10000027-1758654000-1758661200@ottawahort.org
SUMMARY:How is Your Garden Doing as the Gardening Season Comes to an End?
DESCRIPTION:* Effective September 23rd\, all in-person presentations will be held at St. Mark's church\, 1606 Fisher Avenue\, Ottawa. Free parking available behind the church.* OHS online presentations will be streamed live via Zoom (link provided to members in the Grapevine newsletter)\, and later posted on the OHS YouTube channel for those unable to attend.* Presentations begin at 7:30 PM\, following the OHS announcements and refreshment period from 7:00-7:30 PM. \n~~~~~~~~~~~~~~~~~~~~~~~~~~~~~~~~~~~~~~~~~~~~~~~~~~~~~~~~~~~~~~~~~~~~~~~~ \nHow is your garden doing as the gardening season comes to an end.  Best tips and lessons learned from the perspective of garden centre owner\, Mary Reid\, owner of the Green Thumb Garden Centre  \nMary Reid\, Master Gardener and owner of the Green Thumb Garden Centre (and regular guest on the CBC weekly noon Garden Show)\, will share her wisdom and lessons learned that she has acquired during her busy and long career in the horticulture industry. Her unique sense of humor will be sure to entertain you. \n \nBio From teacher to banker to garden centre owner\, Mary Reid matches the description of a multi-talented person. She grew up in a family of gardeners\, worked as a gardener during her summers at university\, and still finds time to garden at home. Mary uses her many skills and extensive experience to run a popular and successful garden centre\, the Green Thumb Garden Centre. She is a member of Landscape Ontario\, a CLP (Certified Landscape Professional) and volunteers as a Master Gardener. Mary enjoys speaking to various local groups and can occasionally be heard skillfully answering questions on the CBC Ontario Today noon show on Mondays. \n~Check out this recent Globe and Mail feature on Mary Reid. An insightful article highlighting her expertise and contributions Mary Reid ~
URL:https://ottawahort.org/event/how-is-your-garden-doing-as-the-gardening-season-comes-to-an-end-2/
LOCATION:St Mark’s Anglican Church\, 1606 Fisher Ave\, Ottawa\, Ontario\, K2C1X6\, Canada
CATEGORIES:Speaker Series 2025
ATTACH;FMTTYPE=image/webp:https://ottawahort.org/wp-content/uploads/2025/09/Speaker-Series-Logo-2026.webp
ORGANIZER;CN="Ottawa Horticultural Society":MAILTO:info@ottawahort.org
END:VEVENT
END:VCALENDAR